BEGIN:VCALENDAR
VERSION:2.0
PRODID:-//Aspiria Fitness Center - ECPv6.15.20//NONSGML v1.0//EN
CALSCALE:GREGORIAN
METHOD:PUBLISH
X-ORIGINAL-URL:https://aspiriafitness.com
X-WR-CALDESC:Events for Aspiria Fitness Center
REFRESH-INTERVAL;VALUE=DURATION:PT1H
X-Robots-Tag:noindex
X-PUBLISHED-TTL:PT1H
BEGIN:VTIMEZONE
TZID:UTC
BEGIN:STANDARD
TZOFFSETFROM:+0000
TZOFFSETTO:+0000
TZNAME:UTC
DTSTART:20250101T000000
END:STANDARD
END:VTIMEZONE
BEGIN:VEVENT
DTSTART;VALUE=DATE:20260101
DTEND;VALUE=DATE:20260201
DTSTAMP:20260420T020750
CREATED:20250215T144448Z
LAST-MODIFIED:20251118T165919Z
UID:2687-1767225600-1769903999@aspiriafitness.com
SUMMARY:Waived Enrollment Fee
DESCRIPTION:Kick off the new year with savings! Aspiria Fitness is waiving all enrollment fees throughout January. Join now and enjoy a fresh start with zero sign-up cost.
URL:https://aspiriafitness.com/event/waived-enrollment-fee/
LOCATION:Aspiria Fitness Center\, 6400 Sprint Pkwy\, Overland Park\, KS\, 66211\, United States
ATTACH;FMTTYPE=image/png:https://aspiriafitness.com/wp-content/uploads/2025/02/Template-18.png
END:VEVENT
BEGIN:VEVENT
DTSTART;VALUE=DATE:20260119
DTEND;VALUE=DATE:20260321
DTSTAMP:20260420T020750
CREATED:20241026T211537Z
LAST-MODIFIED:20251118T164532Z
UID:2471-1768780800-1774051199@aspiriafitness.com
SUMMARY:Winter Pickleball
DESCRIPTION:Join our Pickleball League for a fun\, competitive\, and social playing experience! Players are grouped by skill level for fair\, engaging matchups each week. Whether you’re new to league play or a seasoned competitor\, this is the perfect way to improve your game\, meet new people\, and enjoy the fastest-growing sport in the country.\nCOMPETITIVE LEAGUE:\n$40 Entry Fee Per Team\nStart Date: Jan 19th\nMonday and Wednesday Nights 4:00-5:00pm \nRECREATION LEAGUE:\n$40 Entry Fee Per Team\nStart Date: Jan 20th\nTuesday and Thursday Nights 4:00-5:00pm \nREGISTER EARLY – SPACE IS LIMITED!\nFor more information\, email Brandon.
URL:https://aspiriafitness.com/event/pickleball-winter/
LOCATION:Aspiria Fitness Center\, 6400 Sprint Pkwy\, Overland Park\, KS\, 66211\, United States
ATTACH;FMTTYPE=image/png:https://aspiriafitness.com/wp-content/uploads/2024/10/FIT_Events_Website-21.png
END:VEVENT
BEGIN:VEVENT
DTSTART;VALUE=DATE:20260119
DTEND;VALUE=DATE:20260301
DTSTAMP:20260420T020750
CREATED:20241026T214728Z
LAST-MODIFIED:20251130T165402Z
UID:2480-1768780800-1772323199@aspiriafitness.com
SUMMARY:Resolution Restart
DESCRIPTION:Kickstart your fitness journey with our Resolution Restart Small Group Training program—featuring body analysis\, goal setting\, personalized fitness and nutrition plans. Train as a team with a certified coach and compete for exciting rewards like free meal prep or personal training services!
URL:https://aspiriafitness.com/event/resolution-restart/
LOCATION:Aspiria Fitness Center\, 6400 Sprint Pkwy\, Overland Park\, KS\, 66211\, United States
ATTACH;FMTTYPE=image/png:https://aspiriafitness.com/wp-content/uploads/2024/10/FIT_Events_Website-22.png
END:VEVENT
END:VCALENDAR