BEGIN:VCALENDAR
VERSION:2.0
PRODID:-//Aspiria Fitness Center - ECPv6.15.20//NONSGML v1.0//EN
CALSCALE:GREGORIAN
METHOD:PUBLISH
X-WR-CALNAME:Aspiria Fitness Center
X-ORIGINAL-URL:https://aspiriafitness.com
X-WR-CALDESC:Events for Aspiria Fitness Center
REFRESH-INTERVAL;VALUE=DURATION:PT1H
X-Robots-Tag:noindex
X-PUBLISHED-TTL:PT1H
BEGIN:VTIMEZONE
TZID:UTC
BEGIN:STANDARD
TZOFFSETFROM:+0000
TZOFFSETTO:+0000
TZNAME:UTC
DTSTART:20250101T000000
END:STANDARD
END:VTIMEZONE
BEGIN:VEVENT
DTSTART;VALUE=DATE:20260403
DTEND;VALUE=DATE:20260404
DTSTAMP:20260420T003802
CREATED:20250820T174943Z
LAST-MODIFIED:20260223T185704Z
UID:3108-1775174400-1775260799@aspiriafitness.com
SUMMARY:Free Friend Friday
DESCRIPTION:🔥 Bring a Friend for FREE! 🔥 \nWorking out is more fun with a buddy! For a limited time\, bring a friend to Aspiria Fitness and they’ll train for FREE! 💪🎉 \n✅ More motivation✅ More fun✅ More gains! \nTag your workout partner and let’s crush those fitness goals together! 🏋️‍♂️✨ \n📍 Visit us at Aspiria Fitness (6400 Sprint Parkway\, Overland Park\, KS 66211)📅 Offer valid until 4/3/26
URL:https://aspiriafitness.com/event/free-friend-friday/
LOCATION:Aspiria Fitness Center\, 6400 Sprint Pkwy\, Overland Park\, KS\, 66211\, United States
ATTACH;FMTTYPE=image/png:https://aspiriafitness.com/wp-content/uploads/2025/08/Template-17.png
END:VEVENT
BEGIN:VEVENT
DTSTART;VALUE=DATE:20260405
DTEND;VALUE=DATE:20260406
DTSTAMP:20260420T003802
CREATED:20260223T233422Z
LAST-MODIFIED:20260223T233422Z
UID:3295-1775347200-1775433599@aspiriafitness.com
SUMMARY:Aspiria Fitness Closed
DESCRIPTION:The Aspiria Fitness Center website is temporarily closed in observance of Easter. We wish you a joyful holiday filled with rest\, renewal\, and time with loved ones. Regular website access will resume shortly. Thank you for your understanding.
URL:https://aspiriafitness.com/event/aspiria-fitness-closed-2/
LOCATION:Aspiria Fitness Center\, 6400 Sprint Pkwy\, Overland Park\, KS\, 66211\, United States
ATTACH;FMTTYPE=image/png:https://aspiriafitness.com/wp-content/uploads/2026/02/Template-22.png
END:VEVENT
BEGIN:VEVENT
DTSTART;TZID=UTC:20260417T173000
DTEND;TZID=UTC:20260417T183000
DTSTAMP:20260420T003802
CREATED:20250522T214830Z
LAST-MODIFIED:20260223T185603Z
UID:2987-1776447000-1776450600@aspiriafitness.com
SUMMARY:Squat Clinic
DESCRIPTION:Whether you’re new to squatting or looking to perfect your technique\, this hands-on clinic is designed to help you squat smarter and stronger. Learn proper form\, mobility drills\, and progressions to take your squat to the next level — safely and effectively. \n📅 Date: April 17th📍 Location: Aspiria Fitness (6400 Sprint Parkway Overland Park Ks 66211)👥 Open To: All fitness levels — beginners welcome!🧠 What You’ll Learn: \n\n\nSquat mechanics and variations \n\n\nMobility and stability tips \n\n\nCommon mistakes and how to fix them \n\n\nPersonalized feedback and cues \n\n\nStep into strength and confidence — your best squat starts here! \nFor more information or to register\, email Lauren. Click below to register.
URL:https://aspiriafitness.com/event/squat-clinic/
LOCATION:Aspiria Fitness Center\, 6400 Sprint Pkwy\, Overland Park\, KS\, 66211\, United States
ATTACH;FMTTYPE=image/png:https://aspiriafitness.com/wp-content/uploads/2025/05/Template-16.png
END:VEVENT
BEGIN:VEVENT
DTSTART;TZID=UTC:20260423T110000
DTEND;TZID=UTC:20260423T133000
DTSTAMP:20260420T003802
CREATED:20241211T173449Z
LAST-MODIFIED:20260223T190119Z
UID:2535-1776942000-1776951000@aspiriafitness.com
SUMMARY:Take Your Kid to Work Day
DESCRIPTION:Enjoy some fun and games\, such as knock-out\, pickleball as well that will keep you and your kids moving as a part of –National Take Your Kid to Work Day!  This program will be open to all campus employees participating in “Take Your Kid to Work Day” regardless of membership status.  \nContact Lauren Cottingham  for more information: lauren.cottingham@aspiriacampus.com
URL:https://aspiriafitness.com/event/take-your-kid-to-work-day/
LOCATION:Aspiria Fitness Center\, 6400 Sprint Pkwy\, Overland Park\, KS\, 66211\, United States
ATTACH;FMTTYPE=image/png:https://aspiriafitness.com/wp-content/uploads/2024/12/ASP-Event_TYKTWD-rev-1.png
END:VEVENT
BEGIN:VEVENT
DTSTART;VALUE=DATE:20260501
DTEND;VALUE=DATE:20260502
DTSTAMP:20260420T003802
CREATED:20260223T185801Z
LAST-MODIFIED:20260223T185801Z
UID:3277-1777593600-1777679999@aspiriafitness.com
SUMMARY:Free Friend Friday
DESCRIPTION:🔥 Bring a Friend for FREE! 🔥 \nWorking out is more fun with a buddy! For a limited time\, bring a friend to Aspiria Fitness and they’ll train for FREE! 💪🎉 \n✅ More motivation✅ More fun✅ More gains! \nTag your workout partner and let’s crush those fitness goals together! 🏋️‍♂️✨ \n📍 Visit us at Aspiria Fitness (6400 Sprint Parkway\, Overland Park\, KS 66211)📅 Offer valid 5/1/26
URL:https://aspiriafitness.com/event/free-friend-friday-3/
LOCATION:Aspiria Fitness Center\, 6400 Sprint Pkwy\, Overland Park\, KS\, 66211\, United States
ATTACH;FMTTYPE=image/png:https://aspiriafitness.com/wp-content/uploads/2025/08/Template-17.png
END:VEVENT
BEGIN:VEVENT
DTSTART;TZID=UTC:20260504T000000
DTEND;TZID=UTC:20260626T235900
DTSTAMP:20260420T003802
CREATED:20250214T125654Z
LAST-MODIFIED:20260223T230307Z
UID:2629-1777852800-1782518340@aspiriafitness.com
SUMMARY:Spring Pickleball
DESCRIPTION:COMPETITIVE LEAGUE:\n$40 Entry Fee Per Team\nStart Date: May 4th\nMonday/ Wednesday Nights 4:00-5:00pm \nRECREATION LEAGUE:\n$40 Entry Fee Per Team\nStart Date: May 5th\nTuesday/Thursday Nights 4:00-5:00pm \nREGISTER EARLY – SPACE IS LIMITED!\nFor more information\, email Lauren.
URL:https://aspiriafitness.com/event/spring-pickleball/
LOCATION:Aspiria Fitness Center\, 6400 Sprint Pkwy\, Overland Park\, KS\, 66211\, United States
ATTACH;FMTTYPE=image/png:https://aspiriafitness.com/wp-content/uploads/2025/02/FIT_Events_Website-23.png
END:VEVENT
BEGIN:VEVENT
DTSTART;TZID=UTC:20260505T170000
DTEND;TZID=UTC:20260526T174500
DTSTAMP:20260420T003802
CREATED:20260415T232335Z
LAST-MODIFIED:20260415T232335Z
UID:3328-1778000400-1779817500@aspiriafitness.com
SUMMARY:Summer Sizzle-Bootcamp
DESCRIPTION:Start your morning strong with our Outdoor Bootcamp from 6:00–7:00 AM! 🌅 This energizing full-body workout combines cardio\, strength training\, and functional movements in a fun outdoor setting. Expect a mix of circuits\, bodyweight exercises\, agility drills\, and team motivation designed for all fitness levels. Whether you’re looking to build strength\, boost endurance\, or kickstart your day with great energy\, this class is the perfect way to rise and grind. Bring water\, a mat if desired\, and get ready to sweat in the fresh air! 💪 \n  \nWe will move inside weather permitting \n  \nEvery Tuesday in May \n6:00-7:00 am
URL:https://aspiriafitness.com/event/summer-sizzle-bootcamp-2/
LOCATION:Aspiria Fitness Center\, 6400 Sprint Pkwy\, Overland Park\, KS\, 66211\, United States
ATTACH;FMTTYPE=image/png:https://aspiriafitness.com/wp-content/uploads/2026/04/Template-28.png
END:VEVENT
BEGIN:VEVENT
DTSTART;TZID=UTC:20260519T060000
DTEND;TZID=UTC:20260519T070000
DTSTAMP:20260420T003802
CREATED:20260415T230956Z
LAST-MODIFIED:20260415T230956Z
UID:3324-1779170400-1779174000@aspiriafitness.com
SUMMARY:Murph Challenge
DESCRIPTION:Join us in doing a memorable workout in rememberance of our fallen soilders in service. This navy seal workout was Lt Micheal Murphy’s favorite and is done by the fitness community every Memorial Day. Ready\, Set\, Murph! \n\n\nMay 19th at 6 am \nMay 21st at 6 am \nMay 23rd at 9 am \nVirtual: May 19th- May 25th \nSign up today!
URL:https://aspiriafitness.com/event/murph-challenge-3/
LOCATION:Aspiria Fitness Center\, 6400 Sprint Pkwy\, Overland Park\, KS\, 66211\, United States
ATTACH;FMTTYPE=image/png:https://aspiriafitness.com/wp-content/uploads/2025/02/Template-25.png
END:VEVENT
BEGIN:VEVENT
DTSTART;TZID=UTC:20260520T080000
DTEND;TZID=UTC:20260520T140000
DTSTAMP:20260420T003802
CREATED:20250820T164909Z
LAST-MODIFIED:20260223T232035Z
UID:3084-1779264000-1779285600@aspiriafitness.com
SUMMARY:Community Blood Center- Blood Drive
DESCRIPTION:Give the Gift of Life – Donate Blood Today 🩸❤️One donation can save up to three lives. Join us for our upcoming blood drive and make a life-changing difference in just minutes. All blood types are needed\, and every donor makes a huge impact. \nRegister today to reserve your spot and help keep our community strong—your generosity could be someone’s second chance. \nDonor Portal – Community Blood Center \n 
URL:https://aspiriafitness.com/event/community-blood-center-blood-drive-5/
LOCATION:Aspiria Fitness Center\, 6400 Sprint Pkwy\, Overland Park\, KS\, 66211\, United States
ATTACH;FMTTYPE=image/png:https://aspiriafitness.com/wp-content/uploads/2025/08/ASP-Event_Blood-Drive-723-2.png
END:VEVENT
BEGIN:VEVENT
DTSTART;TZID=UTC:20260521T060000
DTEND;TZID=UTC:20260521T070000
DTSTAMP:20260420T003802
CREATED:20250214T133954Z
LAST-MODIFIED:20260415T231200Z
UID:2633-1779343200-1779346800@aspiriafitness.com
SUMMARY:Murph Challenge
DESCRIPTION:Join us in doing a memorable workout in rememberance of our fallen soilders in service. This navy seal workout was Lt Micheal Murphy’s favorite and is done by the fitness community every Memorial Day. Ready\, Set\, Murph! \n\n\nMay 19th at 6 am \nMay 21st at 6 am \nMay 23rd at 9 am \nVirtual: May 19th- May 25th \nSign up today!
URL:https://aspiriafitness.com/event/murph-challenge/
LOCATION:Aspiria Fitness Center\, 6400 Sprint Pkwy\, Overland Park\, KS\, 66211\, United States
ATTACH;FMTTYPE=image/png:https://aspiriafitness.com/wp-content/uploads/2025/02/Template-25.png
END:VEVENT
BEGIN:VEVENT
DTSTART;TZID=UTC:20260523T090000
DTEND;TZID=UTC:20260523T110000
DTSTAMP:20260420T003802
CREATED:20250214T134220Z
LAST-MODIFIED:20260415T230739Z
UID:2636-1779526800-1779534000@aspiriafitness.com
SUMMARY:Murph Challenge
DESCRIPTION:Join us in doing a memorable workout in rememberance of our fallen soilders in service. This navy seal workout was Lt Micheal Murphy’s favorite and is done by the fitness community every Memorial Day. Ready\, Set\, Murph! \n\n\nMay 19th at 6 am \nMay 21st at 6 am \nMay 23rd at 9 am \nVirtual: May 19th- May 25th \nSign up today!
URL:https://aspiriafitness.com/event/murph-challenge-2/
LOCATION:Aspiria Fitness Center\, 6400 Sprint Pkwy\, Overland Park\, KS\, 66211\, United States
ATTACH;FMTTYPE=image/png:https://aspiriafitness.com/wp-content/uploads/2025/02/Template-25.png
END:VEVENT
BEGIN:VEVENT
DTSTART;VALUE=DATE:20260525
DTEND;VALUE=DATE:20260526
DTSTAMP:20260420T003802
CREATED:20260223T233208Z
LAST-MODIFIED:20260223T233208Z
UID:3292-1779667200-1779753599@aspiriafitness.com
SUMMARY:Aspiria Fitness Closed
DESCRIPTION:The Aspiria Fitness Center website is temporarily closed in observance of Memorial Day. We honor and remember the brave men and women who have served our country. Thank you for your understanding\, and we wish you a safe and meaningful holiday.
URL:https://aspiriafitness.com/event/aspiria-fitness-closed/
LOCATION:Aspiria Fitness Center\, 6400 Sprint Pkwy\, Overland Park\, KS\, 66211\, United States
ATTACH;FMTTYPE=image/png:https://aspiriafitness.com/wp-content/uploads/2026/02/Template-21.png
END:VEVENT
BEGIN:VEVENT
DTSTART;TZID=UTC:20260604T173000
DTEND;TZID=UTC:20260625T183000
DTSTAMP:20260420T003802
CREATED:20250214T171606Z
LAST-MODIFIED:20260415T231716Z
UID:2642-1780594200-1782412200@aspiriafitness.com
SUMMARY:Summer Sizzle- Yoga
DESCRIPTION:Experience the serenity of nature as you flow through your yoga practice in the great outdoors. Breathe in the fresh air\, soak up the natural beauty\, and feel the sun on your skin as you stretch\, strengthen\, and find inner balance. Outdoor yoga enhances mindfulness\, reduces stress\, and deepens your connection to the world around you. \nBring a mat and come join us. No membership required! We will move inside weather permitting. \n  \nEvery Thursday in June \n5:30-6:30 pm
URL:https://aspiriafitness.com/event/summer-sizzle-yoga/
LOCATION:Aspiria Fitness Center\, 6400 Sprint Pkwy\, Overland Park\, KS\, 66211\, United States
ATTACH;FMTTYPE=image/png:https://aspiriafitness.com/wp-content/uploads/2025/02/Template-27.png
END:VEVENT
BEGIN:VEVENT
DTSTART;VALUE=DATE:20260605
DTEND;VALUE=DATE:20260606
DTSTAMP:20260420T003802
CREATED:20260415T234004Z
LAST-MODIFIED:20260415T234004Z
UID:3341-1780617600-1780703999@aspiriafitness.com
SUMMARY:Free Friend Friday
DESCRIPTION:🔥 Bring a Friend for FREE! 🔥 \nWorking out is more fun with a buddy! For a limited time\, bring a friend to Aspiria Fitness and they’ll train for FREE! 💪🎉 \n✅ More motivation✅ More fun✅ More gains! \nTag your workout partner and let’s crush those fitness goals together! 🏋️‍♂️✨ \n📍 Visit us at Aspiria Fitness (6400 Sprint Parkway\, Overland Park\, KS 66211)📅 Offer valid 6/5/26
URL:https://aspiriafitness.com/event/free-friend-friday-4/
LOCATION:Aspiria Fitness Center\, 6400 Sprint Pkwy\, Overland Park\, KS\, 66211\, United States
ATTACH;FMTTYPE=image/png:https://aspiriafitness.com/wp-content/uploads/2025/08/Template-17.png
END:VEVENT
BEGIN:VEVENT
DTSTART;TZID=UTC:20260617T120000
DTEND;TZID=UTC:20260617T130000
DTSTAMP:20260420T003802
CREATED:20250214T165133Z
LAST-MODIFIED:20260415T233106Z
UID:2638-1781697600-1781701200@aspiriafitness.com
SUMMARY:Puppy Yoga
DESCRIPTION:“Relax\, stretch\, and cuddle with adorable puppies! Experience joy\, flexibility\, and stress relief in puppy yoga.” \nWednesday\, June 17\, 2026 \n12-1 pm \nAt Aspiria Fitness \n  \nBring a donation for entry.
URL:https://aspiriafitness.com/event/puppy-yoga/
LOCATION:Aspiria Fitness Center\, 6400 Sprint Pkwy\, Overland Park\, KS\, 66211\, United States
ATTACH;FMTTYPE=image/png:https://aspiriafitness.com/wp-content/uploads/2025/02/Template-3.png
END:VEVENT
BEGIN:VEVENT
DTSTART;VALUE=DATE:20260703
DTEND;VALUE=DATE:20260704
DTSTAMP:20260420T003802
CREATED:20260415T234112Z
LAST-MODIFIED:20260415T234112Z
UID:3343-1783036800-1783123199@aspiriafitness.com
SUMMARY:Free Friend Friday
DESCRIPTION:🔥 Bring a Friend for FREE! 🔥 \nWorking out is more fun with a buddy! For a limited time\, bring a friend to Aspiria Fitness and they’ll train for FREE! 💪🎉 \n✅ More motivation✅ More fun✅ More gains! \nTag your workout partner and let’s crush those fitness goals together! 🏋️‍♂️✨ \n📍 Visit us at Aspiria Fitness (6400 Sprint Parkway\, Overland Park\, KS 66211)📅 Offer valid 7/3/26
URL:https://aspiriafitness.com/event/free-friend-friday-5/
LOCATION:Aspiria Fitness Center\, 6400 Sprint Pkwy\, Overland Park\, KS\, 66211\, United States
ATTACH;FMTTYPE=image/png:https://aspiriafitness.com/wp-content/uploads/2025/08/Template-17.png
END:VEVENT
BEGIN:VEVENT
DTSTART;VALUE=DATE:20260704
DTEND;VALUE=DATE:20260705
DTSTAMP:20260420T003802
CREATED:20260415T233637Z
LAST-MODIFIED:20260415T233637Z
UID:3338-1783123200-1783209599@aspiriafitness.com
SUMMARY:Aspiria Fitness Closed
DESCRIPTION:The Aspiria Fitness Center is temporarily closed in observance of Independence Day. We honor and remember the brave men and women who have served our country. Thank you for your understanding\, and we wish you a safe and meaningful holiday.
URL:https://aspiriafitness.com/event/aspiria-fitness-closed-3/
LOCATION:Aspiria Fitness Center\, 6400 Sprint Pkwy\, Overland Park\, KS\, 66211\, United States
ATTACH;FMTTYPE=image/png:https://aspiriafitness.com/wp-content/uploads/2026/04/Template-33.png
END:VEVENT
BEGIN:VEVENT
DTSTART;TZID=UTC:20260707T060000
DTEND;TZID=UTC:20260728T070000
DTSTAMP:20260420T003802
CREATED:20250214T171941Z
LAST-MODIFIED:20260415T233906Z
UID:2645-1783404000-1785222000@aspiriafitness.com
SUMMARY:Summer Sizzle- Bootcamp
DESCRIPTION:Take your fitness to the next level with an energizing outdoor bootcamp workout! Train in the fresh air with a high-intensity mix of strength\, cardio\, and agility exercises designed to challenge and motivate you. Whether you’re sprinting\, jumping\, or lifting\, every session builds endurance\, power\, and confidence. No gym walls—just open space\, fresh air\, and a supportive community pushing you toward your goals. Get ready to sweat\, burn calories\, and feel unstoppable. Join us for a dynamic\, results-driven workout in the great outdoors! \nBring a mat and come join us. No membership required! We will move inside weather permitting. \n  \nEvery Thursday in July \n6:00-7:00 am
URL:https://aspiriafitness.com/event/summer-sizzle-bootcamp/
LOCATION:Aspiria Fitness Center\, 6400 Sprint Pkwy\, Overland Park\, KS\, 66211\, United States
ATTACH;FMTTYPE=image/png:https://aspiriafitness.com/wp-content/uploads/2025/02/Template-31.png
END:VEVENT
BEGIN:VEVENT
DTSTART;TZID=UTC:20260804T170000
DTEND;TZID=UTC:20260825T174500
DTSTAMP:20260420T003802
CREATED:20250214T172239Z
LAST-MODIFIED:20260415T234234Z
UID:2648-1785862800-1787679900@aspiriafitness.com
SUMMARY:Summer Sizzle- Circuit Training
DESCRIPTION:Join our Outdoor Circuit Training class from 5:00–5:30 PM for a fast-paced workout featuring timed stations\, strength exercises\, cardio bursts\, and functional movement in the fresh air. Perfect for all fitness levels. \nNo membership required! We will move inside weather permitting. \n  \nEvery Monday in August \n5:00-5:30 pm
URL:https://aspiriafitness.com/event/summer-sizzle-circuit-training/
LOCATION:Aspiria Fitness Center\, 6400 Sprint Pkwy\, Overland Park\, KS\, 66211\, United States
ATTACH;FMTTYPE=image/png:https://aspiriafitness.com/wp-content/uploads/2025/02/Template-30.png
END:VEVENT
BEGIN:VEVENT
DTSTART;VALUE=DATE:20260807
DTEND;VALUE=DATE:20260808
DTSTAMP:20260420T003802
CREATED:20260415T234210Z
LAST-MODIFIED:20260415T234210Z
UID:3345-1786060800-1786147199@aspiriafitness.com
SUMMARY:Free Friend Friday
DESCRIPTION:🔥 Bring a Friend for FREE! 🔥 \nWorking out is more fun with a buddy! For a limited time\, bring a friend to Aspiria Fitness and they’ll train for FREE! 💪🎉 \n✅ More motivation✅ More fun✅ More gains! \nTag your workout partner and let’s crush those fitness goals together! 🏋️‍♂️✨ \n📍 Visit us at Aspiria Fitness (6400 Sprint Parkway\, Overland Park\, KS 66211)📅 Offer valid 8/7/26
URL:https://aspiriafitness.com/event/free-friend-friday-6/
LOCATION:Aspiria Fitness Center\, 6400 Sprint Pkwy\, Overland Park\, KS\, 66211\, United States
ATTACH;FMTTYPE=image/png:https://aspiriafitness.com/wp-content/uploads/2025/08/Template-17.png
END:VEVENT
END:VCALENDAR