BEGIN:VCALENDAR
VERSION:2.0
PRODID:-//Aspiria Fitness Center - ECPv6.15.20//NONSGML v1.0//EN
CALSCALE:GREGORIAN
METHOD:PUBLISH
X-WR-CALNAME:Aspiria Fitness Center
X-ORIGINAL-URL:https://aspiriafitness.com
X-WR-CALDESC:Events for Aspiria Fitness Center
REFRESH-INTERVAL;VALUE=DURATION:PT1H
X-Robots-Tag:noindex
X-PUBLISHED-TTL:PT1H
BEGIN:VTIMEZONE
TZID:UTC
BEGIN:STANDARD
TZOFFSETFROM:+0000
TZOFFSETTO:+0000
TZNAME:UTC
DTSTART:20230101T000000
END:STANDARD
END:VTIMEZONE
BEGIN:VEVENT
DTSTART;VALUE=DATE:20241201
DTEND;VALUE=DATE:20250201
DTSTAMP:20260420T043946
CREATED:20241026T213018Z
LAST-MODIFIED:20241026T214352Z
UID:2477-1733011200-1738367999@aspiriafitness.com
SUMMARY:Ping Pong League
DESCRIPTION:RECREATION LEAGUE:\n$10 Entry Fee per Person\nStart Date: February 6 through February 27\nThursday Nights 5:00-7:00pm \nRegistration closes January 31st!\nFor more information\, email Derek.
URL:https://aspiriafitness.com/event/ping-pong-league/
LOCATION:Aspiria Fitness Center\, 6400 Sprint Pkwy\, Overland Park\, KS\, 66211\, United States
END:VEVENT
BEGIN:VEVENT
DTSTART;VALUE=DATE:20241130
DTEND;VALUE=DATE:20241224
DTSTAMP:20260420T043946
CREATED:20241026T211803Z
LAST-MODIFIED:20241026T211803Z
UID:2475-1732924800-1734998399@aspiriafitness.com
SUMMARY:Jumpy McTinsel
DESCRIPTION:He sees you when you’re working out\, he knows when you are not. Find Jumpy thru out the fitness center to win a prize. Each day he will be in a new location. Find Jumpy and bring him to the front desk to claim your prize. \n\nOne winner a day from November 30th to Dec 23rd. The time Jumpy will make his appearance each day will be at the front desk. Winner will be announced daily.
URL:https://aspiriafitness.com/event/jumpy-mctinsel-2/
LOCATION:Aspiria Fitness Center\, 6400 Sprint Pkwy\, Overland Park\, KS\, 66211\, United States
END:VEVENT
BEGIN:VEVENT
DTSTART;TZID=UTC:20241106T110000
DTEND;TZID=UTC:20241106T140000
DTSTAMP:20260420T043946
CREATED:20241021T154651Z
LAST-MODIFIED:20241026T195216Z
UID:2342-1730890800-1730901600@aspiriafitness.com
SUMMARY:Veterans Day Celebration
DESCRIPTION:Black and Veatch and T-Mobile present a Veteran’s Day Celebration to celebrate all those who fought for our country.
URL:https://aspiriafitness.com/event/veterans-day-celebration/
LOCATION:Black and Veatch Headquarters\, 11401 Lamar Ave\, Overland Park\, KS\, 66211\, United States
END:VEVENT
BEGIN:VEVENT
DTSTART;VALUE=DATE:20241026
DTEND;VALUE=DATE:20241109
DTSTAMP:20260420T043946
CREATED:20241026T205901Z
LAST-MODIFIED:20241026T205901Z
UID:2468-1729900800-1731110399@aspiriafitness.com
SUMMARY:Holiday Hustle
DESCRIPTION:Let’s stay accountable thru the Holidays with Aspiria Fitness! \nJoin our Holiday hustle program and collect the most amount of points to win some amazing prizes from our partners. \nNektar\, MyoCore\, Ardent Chiropractic and Vibe Nutrition
URL:https://aspiriafitness.com/event/holiday-hustle/
LOCATION:Aspiria Fitness Center\, 6400 Sprint Pkwy\, Overland Park\, KS\, 66211\, United States
END:VEVENT
END:VCALENDAR